BEGIN:VCALENDAR
VERSION:2.0
PRODID:-//Studio 688 - ECPv6.15.16//NONSGML v1.0//EN
CALSCALE:GREGORIAN
METHOD:PUBLISH
X-ORIGINAL-URL:https://studio688memphis.com
X-WR-CALDESC:Events for Studio 688
REFRESH-INTERVAL;VALUE=DURATION:PT1H
X-Robots-Tag:noindex
X-PUBLISHED-TTL:PT1H
BEGIN:VTIMEZONE
TZID:UTC
BEGIN:STANDARD
TZOFFSETFROM:+0000
TZOFFSETTO:+0000
TZNAME:UTC
DTSTART:20150101T000000
END:STANDARD
END:VTIMEZONE
BEGIN:VEVENT
DTSTART;TZID=UTC:20160316T183000
DTEND;TZID=UTC:20160316T200000
DTSTAMP:20260425T143153
CREATED:20160308T201153Z
LAST-MODIFIED:20160308T201153Z
UID:1265-1458153000-1458158400@studio688memphis.com
SUMMARY:Simplify & Organize Your Business Workshop
DESCRIPTION:Are you tired of feeling overwhelmed? Sick of forgetting things and letting the important stuff slide because you’re bogged down in the day-to-day demands of your business?\nThen it’s time to finally simplify and organize! \nAnd guess what? This workshop can work for you no matter what kind of business you own or how long you’ve been running it. \nAvoid constant rework by organizing your business into systems that serve you and your customer better than ever. Putting systems into place can even be fun – this workshop will show you how!\nFirst\, we’ll cover all the basics\, like how to professionally invoice your customers and keep track of projects. \nThen\, we’ll jump into organizing your processes into custom systems that will keep your business running smoothly and make it easier to grow\, whether that means taking on more work or hiring help! \nThis workshop will be hands-on. You will leave this workshop with: \n• The foundational systems in place to simplify your business \n• A repeatable method for systematizing your entire business \nEveryone from established business owners to those just starting out will benefit from this workshop.\nGRAB YOUR WORKSHOP TICKET!\nThe $10 registration fee covers light hors d’oeuvres\, adult refreshments\, and all your workshop materials. Got a question? Email studio [at] caitlinlhorton.com! \n\nThis Studio688 workshop is presented by Caitlin Horton of Horton Brand Strategy. Existing firmly in the middle of being right and left brained\, Caitlin is uniquely gifted at helping entrepreneurs\, community builders\, and creative professionals narrow in and focus. Find out more about her at ww.caitlinlhorton.com!
URL:https://studio688memphis.com/event/simplify-organize-your-business-workshop/
CATEGORIES:Workshops
ATTACH;FMTTYPE=:
END:VEVENT
BEGIN:VEVENT
DTSTART;TZID=UTC:20160316T183000
DTEND;TZID=UTC:20160316T200000
DTSTAMP:20260425T143153
CREATED:20160308T201153Z
LAST-MODIFIED:20160308T201153Z
UID:3552-1458153000-1458158400@studio688memphis.com
SUMMARY:Simplify & Organize Your Business Workshop
DESCRIPTION:Are you tired of feeling overwhelmed? Sick of forgetting things and letting the important stuff slide because you’re bogged down in the day-to-day demands of your business?\nThen it’s time to finally simplify and organize! \nAnd guess what? This workshop can work for you no matter what kind of business you own or how long you’ve been running it. \nAvoid constant rework by organizing your business into systems that serve you and your customer better than ever. Putting systems into place can even be fun – this workshop will show you how!\nFirst\, we’ll cover all the basics\, like how to professionally invoice your customers and keep track of projects. \nThen\, we’ll jump into organizing your processes into custom systems that will keep your business running smoothly and make it easier to grow\, whether that means taking on more work or hiring help! \nThis workshop will be hands-on. You will leave this workshop with: \n• The foundational systems in place to simplify your business \n• A repeatable method for systematizing your entire business \nEveryone from established business owners to those just starting out will benefit from this workshop.\nGRAB YOUR WORKSHOP TICKET!\nThe $10 registration fee covers light hors d’oeuvres\, adult refreshments\, and all your workshop materials. Got a question? Email studio [at] caitlinlhorton.com! \n\nThis Studio688 workshop is presented by Caitlin Horton of Horton Brand Strategy. Existing firmly in the middle of being right and left brained\, Caitlin is uniquely gifted at helping entrepreneurs\, community builders\, and creative professionals narrow in and focus. Find out more about her at ww.caitlinlhorton.com!
URL:https://studio688memphis.com/event/simplify-organize-your-business-workshop-3/
CATEGORIES:Workshops
ATTACH;FMTTYPE=:
END:VEVENT
BEGIN:VEVENT
DTSTART;TZID=UTC:20160316T183000
DTEND;TZID=UTC:20160316T200000
DTSTAMP:20260425T143153
CREATED:20160308T201153Z
LAST-MODIFIED:20160308T201153Z
UID:4049-1458153000-1458158400@studio688memphis.com
SUMMARY:Simplify & Organize Your Business Workshop
DESCRIPTION:Are you tired of feeling overwhelmed? Sick of forgetting things and letting the important stuff slide because you’re bogged down in the day-to-day demands of your business?\nThen it’s time to finally simplify and organize! \nAnd guess what? This workshop can work for you no matter what kind of business you own or how long you’ve been running it. \nAvoid constant rework by organizing your business into systems that serve you and your customer better than ever. Putting systems into place can even be fun – this workshop will show you how!\nFirst\, we’ll cover all the basics\, like how to professionally invoice your customers and keep track of projects. \nThen\, we’ll jump into organizing your processes into custom systems that will keep your business running smoothly and make it easier to grow\, whether that means taking on more work or hiring help! \nThis workshop will be hands-on. You will leave this workshop with: \n• The foundational systems in place to simplify your business \n• A repeatable method for systematizing your entire business \nEveryone from established business owners to those just starting out will benefit from this workshop.\nGRAB YOUR WORKSHOP TICKET!\nThe $10 registration fee covers light hors d’oeuvres\, adult refreshments\, and all your workshop materials. Got a question? Email studio [at] caitlinlhorton.com! \n\nThis Studio688 workshop is presented by Caitlin Horton of Horton Brand Strategy. Existing firmly in the middle of being right and left brained\, Caitlin is uniquely gifted at helping entrepreneurs\, community builders\, and creative professionals narrow in and focus. Find out more about her at ww.caitlinlhorton.com!
URL:https://studio688memphis.com/event/simplify-organize-your-business-workshop-4/
CATEGORIES:Workshops
ATTACH;FMTTYPE=:
END:VEVENT
BEGIN:VEVENT
DTSTART;TZID=UTC:20160316T183000
DTEND;TZID=UTC:20160316T200000
DTSTAMP:20260425T143153
CREATED:20160308T201153Z
LAST-MODIFIED:20160308T201153Z
UID:4626-1458153000-1458158400@studio688memphis.com
SUMMARY:Simplify & Organize Your Business Workshop
DESCRIPTION:Are you tired of feeling overwhelmed? Sick of forgetting things and letting the important stuff slide because you’re bogged down in the day-to-day demands of your business?\nThen it’s time to finally simplify and organize! \nAnd guess what? This workshop can work for you no matter what kind of business you own or how long you’ve been running it. \nAvoid constant rework by organizing your business into systems that serve you and your customer better than ever. Putting systems into place can even be fun – this workshop will show you how!\nFirst\, we’ll cover all the basics\, like how to professionally invoice your customers and keep track of projects. \nThen\, we’ll jump into organizing your processes into custom systems that will keep your business running smoothly and make it easier to grow\, whether that means taking on more work or hiring help! \nThis workshop will be hands-on. You will leave this workshop with: \n• The foundational systems in place to simplify your business \n• A repeatable method for systematizing your entire business \nEveryone from established business owners to those just starting out will benefit from this workshop.\nGRAB YOUR WORKSHOP TICKET!\nThe $10 registration fee covers light hors d’oeuvres\, adult refreshments\, and all your workshop materials. Got a question? Email studio [at] caitlinlhorton.com! \n\nThis Studio688 workshop is presented by Caitlin Horton of Horton Brand Strategy. Existing firmly in the middle of being right and left brained\, Caitlin is uniquely gifted at helping entrepreneurs\, community builders\, and creative professionals narrow in and focus. Find out more about her at ww.caitlinlhorton.com!
URL:https://studio688memphis.com/event/simplify-organize-your-business-workshop-2/
CATEGORIES:Workshops
ATTACH;FMTTYPE=:
END:VEVENT
BEGIN:VEVENT
DTSTART;TZID=UTC:20160316T183000
DTEND;TZID=UTC:20160316T200000
DTSTAMP:20260425T143153
CREATED:20160308T201153Z
LAST-MODIFIED:20160308T201153Z
UID:4630-1458153000-1458158400@studio688memphis.com
SUMMARY:Simplify & Organize Your Business Workshop
DESCRIPTION:Are you tired of feeling overwhelmed? Sick of forgetting things and letting the important stuff slide because you’re bogged down in the day-to-day demands of your business?\nThen it’s time to finally simplify and organize! \nAnd guess what? This workshop can work for you no matter what kind of business you own or how long you’ve been running it. \nAvoid constant rework by organizing your business into systems that serve you and your customer better than ever. Putting systems into place can even be fun – this workshop will show you how!\nFirst\, we’ll cover all the basics\, like how to professionally invoice your customers and keep track of projects. \nThen\, we’ll jump into organizing your processes into custom systems that will keep your business running smoothly and make it easier to grow\, whether that means taking on more work or hiring help! \nThis workshop will be hands-on. You will leave this workshop with: \n• The foundational systems in place to simplify your business \n• A repeatable method for systematizing your entire business \nEveryone from established business owners to those just starting out will benefit from this workshop.\nGRAB YOUR WORKSHOP TICKET!\nThe $10 registration fee covers light hors d’oeuvres\, adult refreshments\, and all your workshop materials. Got a question? Email studio [at] caitlinlhorton.com! \n\nThis Studio688 workshop is presented by Caitlin Horton of Horton Brand Strategy. Existing firmly in the middle of being right and left brained\, Caitlin is uniquely gifted at helping entrepreneurs\, community builders\, and creative professionals narrow in and focus. Find out more about her at ww.caitlinlhorton.com!
URL:https://studio688memphis.com/event/simplify-organize-your-business-workshop-2-2/
CATEGORIES:Workshops
ATTACH;FMTTYPE=:
END:VEVENT
END:VCALENDAR